BEGIN:VCALENDAR
VERSION:2.0
PRODID:-//Chelsea Gallo - ECPv6.15.20//NONSGML v1.0//EN
CALSCALE:GREGORIAN
METHOD:PUBLISH
X-WR-CALNAME:Chelsea Gallo
X-ORIGINAL-URL:https://chelseagallo.com
X-WR-CALDESC:Events for Chelsea Gallo
REFRESH-INTERVAL;VALUE=DURATION:PT1H
X-Robots-Tag:noindex
X-PUBLISHED-TTL:PT1H
BEGIN:VTIMEZONE
TZID:UTC
BEGIN:STANDARD
TZOFFSETFROM:+0000
TZOFFSETTO:+0000
TZNAME:UTC
DTSTART:20250101T000000
END:STANDARD
END:VTIMEZONE
BEGIN:VEVENT
DTSTART;TZID=UTC:20260424T200000
DTEND;TZID=UTC:20260424T220000
DTSTAMP:20260422T212016
CREATED:20250813T004142Z
LAST-MODIFIED:20250813T004142Z
UID:10000008-1777060800-1777068000@chelseagallo.com
SUMMARY:Verdi - Macbeth
DESCRIPTION:Verdi – Macbeth
URL:https://chelseagallo.com/calendar/verdi-macbeth/
LOCATION:Ferguson Hall at Straz Center\, 1010 North W.C. MacInnes Place\, Tampa\, FL\, 33602\, United States
CATEGORIES:Opera
END:VEVENT
BEGIN:VEVENT
DTSTART;TZID=UTC:20260426T140000
DTEND;TZID=UTC:20260426T160000
DTSTAMP:20260422T212016
CREATED:20250813T004143Z
LAST-MODIFIED:20250813T004143Z
UID:10000009-1777212000-1777219200@chelseagallo.com
SUMMARY:Verdi - Macbeth
DESCRIPTION:Verdi – Macbeth
URL:https://chelseagallo.com/calendar/verdi-macbeth-2/
LOCATION:Ferguson Hall at Straz Center\, 1010 North W.C. MacInnes Place\, Tampa\, FL\, 33602\, United States
CATEGORIES:Opera
END:VEVENT
BEGIN:VEVENT
DTSTART;TZID=UTC:20260430T193000
DTEND;TZID=UTC:20260430T213000
DTSTAMP:20260422T212016
CREATED:20250813T004748Z
LAST-MODIFIED:20250813T004748Z
UID:10000036-1777577400-1777584600@chelseagallo.com
SUMMARY:Shostakovich | Symphony No. 5
DESCRIPTION:Missy Mazzoli – Orpheus Undone\nShostakovitch – Symphony No. 5
URL:https://chelseagallo.com/calendar/shostakovich-symphony-no-5/
LOCATION:Music Hall\, Tampa\, FL\, United States
CATEGORIES:University Events
END:VEVENT
BEGIN:VEVENT
DTSTART;TZID=UTC:20260506T110000
DTEND;TZID=UTC:20260506T130000
DTSTAMP:20260422T212016
CREATED:20250813T004842Z
LAST-MODIFIED:20250813T004842Z
UID:10000044-1778065200-1778072400@chelseagallo.com
SUMMARY:Offenbach - Dvořák | TFO
DESCRIPTION:Dvorak – Symphony No.9\, Op. 95 “From the New World”\nKapralova – Allegro ma non troppo from Suite rustica\, Op. 19\nReicha – Scene for English Horn and Orchestra\nSmetana – Prague Carnival\nWeinberger – Bohemian Songs and Dances No.4\nOffenbach – “Can Can” from Orpheus in the Underworld
URL:https://chelseagallo.com/calendar/offenbach-dvorak-tfo/
LOCATION:Ruth Eckerd Hall\, 1111 McMullen Booth Road\, Clearwater\, FL\, 33759\, United States
CATEGORIES:Morning Matinee
GEO:27.976448428754;-82.704796957672
X-APPLE-STRUCTURED-LOCATION;VALUE=URI;X-ADDRESS=Ruth Eckerd Hall 1111 McMullen Booth Road Clearwater FL 33759 United States;X-APPLE-RADIUS=500;X-TITLE=1111 McMullen Booth Road:geo:-82.704796957672,27.976448428754
END:VEVENT
BEGIN:VEVENT
DTSTART;TZID=UTC:20260507T110000
DTEND;TZID=UTC:20260507T130000
DTSTAMP:20260422T212016
CREATED:20250813T004843Z
LAST-MODIFIED:20250813T004843Z
UID:10000045-1778151600-1778158800@chelseagallo.com
SUMMARY:Verdi - Macbeth
DESCRIPTION:Dvorak – Symphony No.9\, Op. 95 “From the New World”\nKapralova – Allegro ma non troppo from Suite rustica\, Op. 19\nReicha – Scene for English Horn and Orchestra\nSmetana – Prague Carnival\nWeinberger – Bohemian Songs and Dances No.4\nOffenbach – “Can Can” from Orpheus in the Underworld
URL:https://chelseagallo.com/calendar/verdi-macbeth-4/
LOCATION:Mahaffey Theater\, Duke Energy Center for the Arts\, St. Petersburg\, FL\, 33701\, United States
CATEGORIES:Morning Matinee
END:VEVENT
BEGIN:VEVENT
DTSTART;TZID=UTC:20260508T193000
DTEND;TZID=UTC:20260508T213000
DTSTAMP:20260422T212016
CREATED:20250813T004915Z
LAST-MODIFIED:20250813T004915Z
UID:10000047-1778268600-1778275800@chelseagallo.com
SUMMARY:Symphony by the Sea
DESCRIPTION:Smith/Damrosch – The Star Spangled Banner\nLena Frank – “The Mestizo Waltz” from Three Latin American Dances\nMenken (arr. Troob) – An Orchestral Suite from Aladdin\nGershwin – “Summertime” from Porgy and Bess\nGoldman (arr. Shinn) – Chimes of LIberty\narr. Bob Lowden – Armed Forces Salute\nMarquez – Danzon No.2\nCopland – “Hoe-down” from Rodeo\nWilliams – “The Shark Theme” from Suite from Jaws\nStrauss Jr. – Thunder and Lightning Polka\, Op. 324\nSmith – Be the Thunder (Segment 3)\nAdkins & Epworth (arr. J.A.C. Redford) – Skyfall\nWilliams – “Imperial March” from Star Wars (Suite for Orchestra)\nWard (arr. Dragon) – America the Beautiful\nTchaikovsky – 1812 Overture
URL:https://chelseagallo.com/calendar/symphony-by-the-sea/
LOCATION:The Sound\, Clearwater\, FL\, United States
CATEGORIES:Symphony by the Sea
END:VEVENT
BEGIN:VEVENT
DTSTART;TZID=UTC:20260509T193000
DTEND;TZID=UTC:20260509T213000
DTSTAMP:20260422T212016
CREATED:20250813T004812Z
LAST-MODIFIED:20250825T163316Z
UID:10000037-1778355000-1778362200@chelseagallo.com
SUMMARY:Private Event with TFO
DESCRIPTION:Smith/Damrosch – The Star Spangled Banner\nLena Frank – “The Mestizo Waltz” from Three Latin American Dances\nMenken (arr. Troob) – An Orchestral Suite from Aladdin\nGershwin – “Summertime” from Porgy and Bess\nGoldman (arr. Shinn) – Chimes of LIberty\narr. Bob Lowden – Armed Forces Salute\nMarquez – Danzon No.2\nCopland – “Hoe-down” from Rodeo\nWilliams – “The Shark Theme” from Suite from Jaws\nStrauss Jr. – Thunder and Lightning Polka\, Op. 324\nSmith – Be the Thunder (Segment 3)\nAdkins & Epworth (arr. J.A.C. Redford) – Skyfall\nLeigh (arr. Lang) – “The Impossible Dream” from Man from La Mancha\nWilliams – “Imperial March” from Star Wars (Suite for Orchestra)\nWard (arr. Dragon) – America the Beautiful\nTchaikovsky – 1812 Overture
URL:https://chelseagallo.com/calendar/private-event-with-the-florida-orchestra-3/
LOCATION:Raymond James Stadium (TBC)\, Tampa\, FL\, United States
CATEGORIES:Private Event/Not Ticketed
END:VEVENT
BEGIN:VEVENT
DTSTART;TZID=UTC:20260510T193000
DTEND;TZID=UTC:20260510T213000
DTSTAMP:20260422T212016
CREATED:20250813T004717Z
LAST-MODIFIED:20250825T163343Z
UID:10000025-1778441400-1778448600@chelseagallo.com
SUMMARY:Pops in the Park | TFO
DESCRIPTION:Smith/Damrosch – The Star Spangled Banner\nLena Frank – “The Mestizo Waltz” from Three Latin American Dances\nMenken (arr. Troob) – An Orchestral Suite from Aladdin\nGershwin – “Summertime” from Porgy and Bess\nGoldman (arr. Shinn) – Chimes of LIberty\narr. Bob Lowden – Armed Forces Salute\nMarquez – Danzon No.2\nCopland – “Hoe-down” from Rodeo\nWilliams – “The Shark Theme” from Suite from Jaws\nStrauss Jr. – Thunder and Lightning Polka\, Op. 324\nSmith – Be the Thunder (Segment 3)\nAdkins & Epworth (arr. J.A.C. Redford) – Skyfall\nWilliams – “Imperial March” from Star Wars (Suite for Orchestra)\nWard (arr. Dragon) – America the Beautiful\nTchaikovsky – 1812 Overture
URL:https://chelseagallo.com/calendar/pops-in-the-park-tfo-2/
LOCATION:JBL Riverfront Park\, Tampa\, FL\, United States
CATEGORIES:Orchestra,Pops in the Park
END:VEVENT
BEGIN:VEVENT
DTSTART;TZID=UTC:20260523T143000
DTEND;TZID=UTC:20260523T163000
DTSTAMP:20260422T212016
CREATED:20250813T004136Z
LAST-MODIFIED:20250813T004136Z
UID:10000006-1779546600-1779553800@chelseagallo.com
SUMMARY:Cirque Musica: Heroes and Villains
DESCRIPTION:Cirque Musica: Heroes and Villains
URL:https://chelseagallo.com/calendar/cirque-musica-heroes-and-villains/
LOCATION:FL
CATEGORIES:Pops
END:VEVENT
BEGIN:VEVENT
DTSTART;TZID=UTC:20260523T193000
DTEND;TZID=UTC:20260523T213000
DTSTAMP:20260422T212016
CREATED:20250813T004141Z
LAST-MODIFIED:20250825T163948Z
UID:10000007-1779564600-1779571800@chelseagallo.com
SUMMARY:Cirque Musica: Heroes and Villains
DESCRIPTION:Cirque Musica: Heroes and Villains
URL:https://chelseagallo.com/calendar/cirque-musica-heroes-and-villains-2/
LOCATION:FL
CATEGORIES:Pops
END:VEVENT
BEGIN:VEVENT
DTSTART;TZID=UTC:20260607T140000
DTEND;TZID=UTC:20260607T160000
DTSTAMP:20260422T212016
CREATED:20250813T004739Z
LAST-MODIFIED:20250825T163550Z
UID:10000031-1780840800-1780848000@chelseagallo.com
SUMMARY:Defying Gravity | TFO
DESCRIPTION:Coming Soon.
URL:https://chelseagallo.com/calendar/defying-gravity/
LOCATION:Morsani Hall at Straz Center\, 1010 North W.C. MacInnes Place\, Tampa\, FL\, 33602\, United States
CATEGORIES:Orchestra,Pops
GEO:27.952259529007;-82.463790184656
X-APPLE-STRUCTURED-LOCATION;VALUE=URI;X-ADDRESS=Morsani Hall at Straz Center 1010 North W.C. MacInnes Place Tampa FL 33602 United States;X-APPLE-RADIUS=500;X-TITLE=1010 North W.C. MacInnes Place:geo:-82.463790184656,27.952259529007
END:VEVENT
END:VCALENDAR