BEGIN:VCALENDAR
VERSION:2.0
PRODID:-//Chelsea Gallo - ECPv6.15.20//NONSGML v1.0//EN
CALSCALE:GREGORIAN
METHOD:PUBLISH
X-WR-CALNAME:Chelsea Gallo
X-ORIGINAL-URL:https://chelseagallo.com
X-WR-CALDESC:Events for Chelsea Gallo
REFRESH-INTERVAL;VALUE=DURATION:PT1H
X-Robots-Tag:noindex
X-PUBLISHED-TTL:PT1H
BEGIN:VTIMEZONE
TZID:UTC
BEGIN:STANDARD
TZOFFSETFROM:+0000
TZOFFSETTO:+0000
TZNAME:UTC
DTSTART:20250101T000000
END:STANDARD
END:VTIMEZONE
BEGIN:VEVENT
DTSTART;TZID=UTC:20260301T143000
DTEND;TZID=UTC:20260301T163000
DTSTAMP:20260423T231804
CREATED:20250813T004134Z
LAST-MODIFIED:20250826T014609Z
UID:1337-1772375400-1772382600@chelseagallo.com
SUMMARY:Beethoven | Ravel | KSO
DESCRIPTION:Beethoven – Overture to The Creatures of Prometheus\nSchoenberg – Transfigured Night\nZwilich – Peanuts Gallery\nRavel – Mother Goose Suite
URL:https://chelseagallo.com/calendar/beethoven-ravel-kso/
LOCATION:Bijou Theatre\, Knoxville\, TN\, United States
CATEGORIES:Chamber Orchestra
END:VEVENT
END:VCALENDAR