BEGIN:VCALENDAR
VERSION:2.0
PRODID:-//Chelsea Gallo - ECPv6.15.20//NONSGML v1.0//EN
CALSCALE:GREGORIAN
METHOD:PUBLISH
X-WR-CALNAME:Chelsea Gallo
X-ORIGINAL-URL:https://chelseagallo.com
X-WR-CALDESC:Events for Chelsea Gallo
REFRESH-INTERVAL;VALUE=DURATION:PT1H
X-Robots-Tag:noindex
X-PUBLISHED-TTL:PT1H
BEGIN:VTIMEZONE
TZID:UTC
BEGIN:STANDARD
TZOFFSETFROM:+0000
TZOFFSETTO:+0000
TZNAME:UTC
DTSTART:20250101T000000
END:STANDARD
END:VTIMEZONE
BEGIN:VEVENT
DTSTART;TZID=UTC:20260131T193000
DTEND;TZID=UTC:20260131T213000
DTSTAMP:20260424T030712
CREATED:20250813T004136Z
LAST-MODIFIED:20250826T014703Z
UID:1339-1769887800-1769895000@chelseagallo.com
SUMMARY:Elfman - Suite for Chamber Orchestra
DESCRIPTION:Elfman – Suite for Chamber Orchestra
URL:https://chelseagallo.com/calendar/elfman-suite-for-chamber-orchestra/
CATEGORIES:Chamber Orchestra
END:VEVENT
END:VCALENDAR