BEGIN:VCALENDAR
VERSION:2.0
PRODID:-//Chelsea Gallo - ECPv6.15.20//NONSGML v1.0//EN
CALSCALE:GREGORIAN
METHOD:PUBLISH
X-WR-CALNAME:Chelsea Gallo
X-ORIGINAL-URL:https://chelseagallo.com
X-WR-CALDESC:Events for Chelsea Gallo
REFRESH-INTERVAL;VALUE=DURATION:PT1H
X-Robots-Tag:noindex
X-PUBLISHED-TTL:PT1H
BEGIN:VTIMEZONE
TZID:UTC
BEGIN:STANDARD
TZOFFSETFROM:+0000
TZOFFSETTO:+0000
TZNAME:UTC
DTSTART:20250101T000000
END:STANDARD
END:VTIMEZONE
BEGIN:VEVENT
DTSTART;TZID=UTC:20260201T000000
DTEND;TZID=UTC:20260201T000000
DTSTAMP:20260424T011938
CREATED:20250813T004136Z
LAST-MODIFIED:20250826T014645Z
UID:1340-1769904000-1769904000@chelseagallo.com
SUMMARY:Falla | El Amor brujo | TFO
DESCRIPTION:Falla – El Amor brujo (1915 version)
URL:https://chelseagallo.com/calendar/falla-el-amor-brujo-the-florida-orchestra/
CATEGORIES:Masterworks,Orchestra
END:VEVENT
END:VCALENDAR