BEGIN:VCALENDAR
VERSION:2.0
PRODID:-//Chelsea Gallo - ECPv6.15.20//NONSGML v1.0//EN
CALSCALE:GREGORIAN
METHOD:PUBLISH
X-WR-CALNAME:Chelsea Gallo
X-ORIGINAL-URL:https://chelseagallo.com
X-WR-CALDESC:Events for Chelsea Gallo
REFRESH-INTERVAL;VALUE=DURATION:PT1H
X-Robots-Tag:noindex
X-PUBLISHED-TTL:PT1H
BEGIN:VTIMEZONE
TZID:UTC
BEGIN:STANDARD
TZOFFSETFROM:+0000
TZOFFSETTO:+0000
TZNAME:UTC
DTSTART:20250101T000000
END:STANDARD
END:VTIMEZONE
BEGIN:VEVENT
DTSTART;TZID=UTC:20260412T193000
DTEND;TZID=UTC:20260412T213000
DTSTAMP:20260423T161432
CREATED:20250813T004647Z
LAST-MODIFIED:20250826T014528Z
UID:1354-1776022200-1776029400@chelseagallo.com
SUMMARY:Grofe | Caens | Beethoven | TFO
DESCRIPTION:Grofe – Mississippi Suite\nCaens – Tribones [USA & Consortium Premiere]\nBeethoven – Symphony No.7\, Op. 92
URL:https://chelseagallo.com/calendar/grofe-caens-beethoven-the-florida-orchestra-2/
LOCATION:Ruth Eckerd Hall\, 1111 McMullen Booth Road\, Clearwater\, FL\, 33759\, United States
CATEGORIES:Masterworks
GEO:27.976448428754;-82.704796957672
X-APPLE-STRUCTURED-LOCATION;VALUE=URI;X-ADDRESS=Ruth Eckerd Hall 1111 McMullen Booth Road Clearwater FL 33759 United States;X-APPLE-RADIUS=500;X-TITLE=1111 McMullen Booth Road:geo:-82.704796957672,27.976448428754
END:VEVENT
END:VCALENDAR