BEGIN:VCALENDAR
VERSION:2.0
PRODID:-//Chelsea Gallo - ECPv6.15.20//NONSGML v1.0//EN
CALSCALE:GREGORIAN
METHOD:PUBLISH
X-WR-CALNAME:Chelsea Gallo
X-ORIGINAL-URL:https://chelseagallo.com
X-WR-CALDESC:Events for Chelsea Gallo
REFRESH-INTERVAL;VALUE=DURATION:PT1H
X-Robots-Tag:noindex
X-PUBLISHED-TTL:PT1H
BEGIN:VTIMEZONE
TZID:UTC
BEGIN:STANDARD
TZOFFSETFROM:+0000
TZOFFSETTO:+0000
TZNAME:UTC
DTSTART:20250101T000000
END:STANDARD
END:VTIMEZONE
BEGIN:VEVENT
DTSTART;TZID=UTC:20260506T110000
DTEND;TZID=UTC:20260506T130000
DTSTAMP:20260423T160133
CREATED:20250813T004842Z
LAST-MODIFIED:20250813T004842Z
UID:1384-1778065200-1778072400@chelseagallo.com
SUMMARY:Offenbach - Dvořák | TFO
DESCRIPTION:Dvorak – Symphony No.9\, Op. 95 “From the New World”\nKapralova – Allegro ma non troppo from Suite rustica\, Op. 19\nReicha – Scene for English Horn and Orchestra\nSmetana – Prague Carnival\nWeinberger – Bohemian Songs and Dances No.4\nOffenbach – “Can Can” from Orpheus in the Underworld
URL:https://chelseagallo.com/calendar/offenbach-dvorak-tfo/
LOCATION:Ruth Eckerd Hall\, 1111 McMullen Booth Road\, Clearwater\, FL\, 33759\, United States
CATEGORIES:Morning Matinee
GEO:27.976448428754;-82.704796957672
X-APPLE-STRUCTURED-LOCATION;VALUE=URI;X-ADDRESS=Ruth Eckerd Hall 1111 McMullen Booth Road Clearwater FL 33759 United States;X-APPLE-RADIUS=500;X-TITLE=1111 McMullen Booth Road:geo:-82.704796957672,27.976448428754
END:VEVENT
END:VCALENDAR