BEGIN:VCALENDAR
VERSION:2.0
PRODID:-//Chelsea Gallo - ECPv6.15.20//NONSGML v1.0//EN
CALSCALE:GREGORIAN
METHOD:PUBLISH
X-WR-CALNAME:Chelsea Gallo
X-ORIGINAL-URL:https://chelseagallo.com
X-WR-CALDESC:Events for Chelsea Gallo
REFRESH-INTERVAL;VALUE=DURATION:PT1H
X-Robots-Tag:noindex
X-PUBLISHED-TTL:PT1H
BEGIN:VTIMEZONE
TZID:UTC
BEGIN:STANDARD
TZOFFSETFROM:+0000
TZOFFSETTO:+0000
TZNAME:UTC
DTSTART:20250101T000000
END:STANDARD
END:VTIMEZONE
BEGIN:VEVENT
DTSTART;TZID=UTC:20260509T193000
DTEND;TZID=UTC:20260509T213000
DTSTAMP:20260423T190718
CREATED:20250813T004812Z
LAST-MODIFIED:20250825T163316Z
UID:1372-1778355000-1778362200@chelseagallo.com
SUMMARY:Private Event with TFO
DESCRIPTION:Smith/Damrosch – The Star Spangled Banner\nLena Frank – “The Mestizo Waltz” from Three Latin American Dances\nMenken (arr. Troob) – An Orchestral Suite from Aladdin\nGershwin – “Summertime” from Porgy and Bess\nGoldman (arr. Shinn) – Chimes of LIberty\narr. Bob Lowden – Armed Forces Salute\nMarquez – Danzon No.2\nCopland – “Hoe-down” from Rodeo\nWilliams – “The Shark Theme” from Suite from Jaws\nStrauss Jr. – Thunder and Lightning Polka\, Op. 324\nSmith – Be the Thunder (Segment 3)\nAdkins & Epworth (arr. J.A.C. Redford) – Skyfall\nLeigh (arr. Lang) – “The Impossible Dream” from Man from La Mancha\nWilliams – “Imperial March” from Star Wars (Suite for Orchestra)\nWard (arr. Dragon) – America the Beautiful\nTchaikovsky – 1812 Overture
URL:https://chelseagallo.com/calendar/private-event-with-the-florida-orchestra-3/
LOCATION:Raymond James Stadium (TBC)\, Tampa\, FL\, United States
CATEGORIES:Private Event/Not Ticketed
END:VEVENT
END:VCALENDAR