BEGIN:VCALENDAR
VERSION:2.0
PRODID:-//Chelsea Gallo - ECPv6.15.20//NONSGML v1.0//EN
CALSCALE:GREGORIAN
METHOD:PUBLISH
X-WR-CALNAME:Chelsea Gallo
X-ORIGINAL-URL:https://chelseagallo.com
X-WR-CALDESC:Events for Chelsea Gallo
REFRESH-INTERVAL;VALUE=DURATION:PT1H
X-Robots-Tag:noindex
X-PUBLISHED-TTL:PT1H
BEGIN:VTIMEZONE
TZID:UTC
BEGIN:STANDARD
TZOFFSETFROM:+0000
TZOFFSETTO:+0000
TZNAME:UTC
DTSTART:20250101T000000
END:STANDARD
END:VTIMEZONE
BEGIN:VEVENT
DTSTART;TZID=UTC:20260508T193000
DTEND;TZID=UTC:20260508T213000
DTSTAMP:20260423T174140
CREATED:20250813T004915Z
LAST-MODIFIED:20250813T004915Z
UID:1387-1778268600-1778275800@chelseagallo.com
SUMMARY:Symphony by the Sea
DESCRIPTION:Smith/Damrosch – The Star Spangled Banner\nLena Frank – “The Mestizo Waltz” from Three Latin American Dances\nMenken (arr. Troob) – An Orchestral Suite from Aladdin\nGershwin – “Summertime” from Porgy and Bess\nGoldman (arr. Shinn) – Chimes of LIberty\narr. Bob Lowden – Armed Forces Salute\nMarquez – Danzon No.2\nCopland – “Hoe-down” from Rodeo\nWilliams – “The Shark Theme” from Suite from Jaws\nStrauss Jr. – Thunder and Lightning Polka\, Op. 324\nSmith – Be the Thunder (Segment 3)\nAdkins & Epworth (arr. J.A.C. Redford) – Skyfall\nWilliams – “Imperial March” from Star Wars (Suite for Orchestra)\nWard (arr. Dragon) – America the Beautiful\nTchaikovsky – 1812 Overture
URL:https://chelseagallo.com/calendar/symphony-by-the-sea/
LOCATION:The Sound\, Clearwater\, FL\, United States
CATEGORIES:Symphony by the Sea
END:VEVENT
END:VCALENDAR